{
 "currentVersion": 11.3,
 "cimVersion": "3.3.0",
 "serviceDescription": "This service is a cached overlay of a cartographic representation of the National Hydrography Dataset (NHD). The NHD is a comprehensive set of digital geospatial data that encodes information about naturally occurring and constructed bodies of surface water, paths through which water flows, related features such as stream gages and dams, and additional hydrologic information. It is available nationwide in a 1:24,000-scale seamless dataset, referred to as high resolution NHD. The NHD supports many applications, such as making maps, geocoding observations, flow modeling, data maintenance and stewardship. For additional information, go to http://nhd.usgs.gov. Additional datasets are used for small-scale hydrography representation as well, including medium resolution NHDPlus published by EPA; USGS Small-Scale hydrography; and bathymetry from ETOPO1 Global Relief, provided by NOAA National Centers for Environmental Information, U.S. Coastal Relief Model.",
 "mapName": "USGSHydroCached",
 "description": "This service is a cached overlay of a cartographic representation of the National Hydrography Dataset (NHD). The NHD is a comprehensive set of digital geospatial data that encodes information about naturally occurring and constructed bodies of surface water, paths through which water flows, related features such as stream gages and dams, and additional hydrologic information. It is available nationwide in a 1:24,000-scale seamless dataset, referred to as high resolution NHD. The NHD supports many applications, such as making maps, geocoding observations, flow modeling, data maintenance and stewardship. For additional information, go to http://nhd.usgs.gov. Additional datasets are used for small-scale hydrography representation as well, including medium resolution NHDPlus published by EPA; USGS Small-Scale hydrography; and bathymetry from ETOPO1 Global Relief, provided by NOAA National Centers for Environmental Information, U.S. Coastal Relief Model.",
 "copyrightText": "USGS The National Map: National Hydrography Dataset. Data refreshed February, 2025.",
 "supportsDynamicLayers": false,
 "layers": [],
 "tables": [],
 "spatialReference": {
  "wkid": 102100,
  "latestWkid": 3857,
  "xyTolerance": 0.001,
  "zTolerance": 0.001,
  "mTolerance": 0.001,
  "falseX": -20037700,
  "falseY": -30241100,
  "xyUnits": 10000,
  "falseZ": -100000,
  "zUnits": 10000,
  "falseM": -100000,
  "mUnits": 10000
 },
 "singleFusedMapCache": true,
 "tileInfo": {
  "rows": 256,
  "cols": 256,
  "dpi": 96,
  "format": "MIXED",
  "compressionQuality": 85,
  "origin": {
   "x": -2.0037508342787E7,
   "y": 2.0037508342787E7
  },
  "spatialReference": {
   "wkid": 102100,
   "latestWkid": 3857,
   "xyTolerance": 0.001,
   "zTolerance": 0.001,
   "mTolerance": 0.001,
   "falseX": -2.2041319515488513E7,
   "falseY": -3.3266626632849723E7,
   "xyUnits": 1.353819274782474E8,
   "falseZ": -100000,
   "zUnits": 10000,
   "falseM": -100000,
   "mUnits": 10000
  },
  "lods": [
   {
    "level": 0,
    "resolution": 156543.03392800014,
    "scale": 5.91657527591555E8
   },
   {
    "level": 1,
    "resolution": 78271.51696399994,
    "scale": 2.95828763795777E8
   },
   {
    "level": 2,
    "resolution": 39135.75848200009,
    "scale": 1.47914381897889E8
   },
   {
    "level": 3,
    "resolution": 19567.87924099992,
    "scale": 7.3957190948944E7
   },
   {
    "level": 4,
    "resolution": 9783.93962049996,
    "scale": 3.6978595474472E7
   },
   {
    "level": 5,
    "resolution": 4891.96981024998,
    "scale": 1.8489297737236E7
   },
   {
    "level": 6,
    "resolution": 2445.98490512499,
    "scale": 9244648.868618
   },
   {
    "level": 7,
    "resolution": 1222.992452562495,
    "scale": 4622324.434309
   },
   {
    "level": 8,
    "resolution": 611.4962262813797,
    "scale": 2311162.217155
   },
   {
    "level": 9,
    "resolution": 305.74811314055756,
    "scale": 1155581.108577
   },
   {
    "level": 10,
    "resolution": 152.87405657041106,
    "scale": 577790.554289
   },
   {
    "level": 11,
    "resolution": 76.43702828507324,
    "scale": 288895.277144
   },
   {
    "level": 12,
    "resolution": 38.21851414253662,
    "scale": 144447.638572
   },
   {
    "level": 13,
    "resolution": 19.10925707126831,
    "scale": 72223.819286
   },
   {
    "level": 14,
    "resolution": 9.554628535634155,
    "scale": 36111.909643
   },
   {
    "level": 15,
    "resolution": 4.77731426794937,
    "scale": 18055.954822
   },
   {
    "level": 16,
    "resolution": 2.388657133974685,
    "scale": 9027.977411
   },
   {
    "level": 17,
    "resolution": 1.1943285668550503,
    "scale": 4513.988705
   },
   {
    "level": 18,
    "resolution": 0.5971642835598172,
    "scale": 2256.994353
   },
   {
    "level": 19,
    "resolution": 0.29858214164761665,
    "scale": 1128.497176
   },
   {
    "level": 20,
    "resolution": 0.14929107082380833,
    "scale": 564.248588
   },
   {
    "level": 21,
    "resolution": 0.07464553541190416,
    "scale": 282.124294
   },
   {
    "level": 22,
    "resolution": 0.03732276770595208,
    "scale": 141.062147
   },
   {
    "level": 23,
    "resolution": 0.01866138385297604,
    "scale": 70.5310735
   }
  ]
 },
 "storageInfo": {
  "storageFormat": "esriMapCacheStorageModeCompactV2",
  "packetSize": 128
 },
 "initialExtent": {
  "xmin": -2.1054208906836987E7,
  "ymin": -3017313.150540825,
  "xmax": 1018358.8770109285,
  "ymax": 1.2304336295162113E7,
  "spatialReference": {
   "cs": "pcs",
   "wkid": 102100
  }
 },
 "fullExtent": {
  "xmin": "NaN",
  "ymin": "NaN",
  "xmax": "NaN",
  "ymax": "NaN",
  "spatialReference": {
   "cs": "pcs",
   "wkid": 102100
  }
 },
 "datesInUnknownTimezone": false,
 "minScale": 5.91657527591555E8,
 "maxScale": 9027.977411,
 "units": "esriMeters",
 "supportedImageFormatTypes": "PNG32,PNG24,PNG,JPG,DIB,TIFF,EMF,PS,PDF,GIF,SVG,SVGZ,BMP",
 "documentInfo": {
  "Title": "USGS Hydro Cache Base Map",
  "Author": "",
  "Comments": "This service is a cached overlay of a cartographic representation of the National Hydrography Dataset (NHD). \u200bThe NHD is a comprehensive set of digital \u200bgeo\u200bspatial data that encodes information about naturally occurring and constructed bodies of surface water\u200b, paths through which water flows\u200b, \u200brelated features\u200b such as stream gages and dams\u200b\u200b, and additional hydrologic information\u200b. \u200bIt is available nationwide \u200bin a 1:24,000-scale seamless dataset, referred to as high resolution NHD. The NHD supports many applications, such as making maps, geocoding observations, flow modeling, data maintenance and stewardship. For additional information, go to http://nhd.usgs.gov. Additional datasets are used for small-scale hydrography representation as well\u200b, including medium resolution NHDPlus published by EPA\u200b; USGS Small-Scale hydrography; and bathymetry from ETOPO1 Global Relief, provided by NOAA National Centers for Environmental Information, U.S. Coastal Relief Model.",
  "Subject": "Inland Waters",
  "Category": "",
  "Version": "3.3.0",
  "AntialiasingMode": "Fast",
  "TextAntialiasingMode": "Force",
  "Keywords": "NHD,WBD,USGS,hydrography,cache,wbd,nhd,hydro,river,stream,lakes"
 },
 "supportsQueryDomains": true,
 "capabilities": "Map,Query,Data",
 "supportedQueryFormats": "JSON, geoJSON, PBF",
 "exportTilesAllowed": true,
 "maxExportTilesCount": 100000,
 "referenceScale": 0.0,
 "supportsDatumTransformation": true,
 "archivingInfo": {
  "supportsHistoricMoment": false
 },
 "supportsClipping": true,
 "supportsSpatialFilter": true,
 "supportsTimeRelation": true,
 "supportsQueryDataElements": true,
 "mapUnits": {
  "uwkid": 9001
 },
 "maxRecordCount": 1000,
 "maxImageHeight": 4096,
 "maxImageWidth": 4096,
 "supportedExtensions": "WMSServer"
}
