{
 "currentVersion": 11.3,
 "cimVersion": "3.3.0",
 "serviceDescription": "The USGS Shaded Relief base map service from The National Map was created with data from the 3D Elevation Program (3DEP) for large and medium scales (1:9,028 through 1:1,155,581), and Global Multi-resolution Terrain Elevation Data 2010 (GMTED2010) for small scales (1:2,311,162 through 1:295,828,764). 3DEP maintains a seamless dataset of best available raster elevation data, as LIDAR and as digital elevation models (DEMs), for the conterminous United States, Alaska, Hawaii, and Territorial Islands. Resolutions available include 1-meter, 3-meter (1/9-arc-second), 10-meter (1/3-arc-second), 30-meter (1-arc-second), and 60-meter (2-arc-second; only in Alaska). 3DEP also contains coverage of Canada, Mexico, Central America, and the Caribbean at 30-meter (1-arc-second) resolution. 3DEP shaded relief was derived with a multi-directional hillshade technique. Small-scale shaded relief was created with a single-direction hillshade from GMTED2010 global elevation data at 7.5-, 15-, and 30-arc-second resolutions, and resampled further for scales 1:18,489,298 and smaller. Ocean areas are left unfilled for maximum flexibility by end users. For additional information, go to https://www.usgs.gov/core-science-systems/ngp/3dep , https://www.usgs.gov/core-science-systems/eros/coastal-changes-and-impacts , and https://apps.nationalmap.gov/3depdem/",
 "mapName": "USGSShadedReliefOnly",
 "description": "The USGS Shaded Relief base map service from The National Map was created with data from the 3D Elevation Program (3DEP) for large and medium scales (1:9,028 through 1:1,155,581), and Global Multi-resolution Terrain Elevation Data 2010 (GMTED2010) for small scales (1:2,311,162 through 1:295,828,764). 3DEP maintains a seamless dataset of best available raster elevation data, as LIDAR and as digital elevation models (DEMs), for the conterminous United States, Alaska, Hawaii, and Territorial Islands. Resolutions available include 1-meter, 3-meter (1/9-arc-second), 10-meter (1/3-arc-second), 30-meter (1-arc-second), and 60-meter (2-arc-second; only in Alaska). 3DEP also contains coverage of Canada, Mexico, Central America, and the Caribbean at 30-meter (1-arc-second) resolution. 3DEP shaded relief was derived with a multi-directional hillshade technique. Small-scale shaded relief was created with a single-direction hillshade from GMTED2010 global elevation data at 7.5-, 15-, and 30-arc-second resolutions, and resampled further for scales 1:18,489,298 and smaller. Ocean areas are left unfilled for maximum flexibility by end users. For additional information, go to https://www.usgs.gov/core-science-systems/ngp/3dep , https://www.usgs.gov/core-science-systems/eros/coastal-changes-and-impacts , and https://apps.nationalmap.gov/3depdem/",
 "copyrightText": "USGS The National Map: 3D Elevation Program. USGS Earth Resources Observation & Science (EROS) Center: GMTED2010. Data refreshed April, 2025.",
 "supportsDynamicLayers": false,
 "layers": [
  {
   "id": 0,
   "name": "USGSShadedReliefOnly",
   "parentLayerId": -1,
   "defaultVisibility": true,
   "subLayerIds": null,
   "minScale": 0,
   "maxScale": 0,
   "type": "Raster Layer",
   "supportsDynamicLegends": true
  }
 ],
 "tables": [],
 "spatialReference": {
  "wkid": 102100,
  "latestWkid": 3857,
  "xyTolerance": 0.001,
  "zTolerance": 0.001,
  "mTolerance": 0.001,
  "falseX": -20037700,
  "falseY": -30241100,
  "xyUnits": 10000,
  "falseZ": -100000,
  "zUnits": 10000,
  "falseM": -100000,
  "mUnits": 10000
 },
 "singleFusedMapCache": true,
 "tileInfo": {
  "rows": 256,
  "cols": 256,
  "dpi": 96,
  "format": "MIXED",
  "compressionQuality": 85,
  "origin": {
   "x": -2.0037508342787E7,
   "y": 2.0037508342787E7
  },
  "spatialReference": {
   "wkid": 102100,
   "latestWkid": 3857,
   "xyTolerance": 0.001,
   "zTolerance": 0.001,
   "mTolerance": 0.001,
   "falseX": -20037700,
   "falseY": -30241100,
   "xyUnits": 1.4892314192838538E8,
   "falseZ": -100000,
   "zUnits": 10000,
   "falseM": -100000,
   "mUnits": 10000
  },
  "lods": [
   {
    "level": 0,
    "resolution": 156543.03392800014,
    "scale": 5.91657527591555E8
   },
   {
    "level": 1,
    "resolution": 78271.51696399994,
    "scale": 2.95828763795777E8
   },
   {
    "level": 2,
    "resolution": 39135.75848200009,
    "scale": 1.47914381897889E8
   },
   {
    "level": 3,
    "resolution": 19567.87924099992,
    "scale": 7.3957190948944E7
   },
   {
    "level": 4,
    "resolution": 9783.93962049996,
    "scale": 3.6978595474472E7
   },
   {
    "level": 5,
    "resolution": 4891.96981024998,
    "scale": 1.8489297737236E7
   },
   {
    "level": 6,
    "resolution": 2445.98490512499,
    "scale": 9244648.868618
   },
   {
    "level": 7,
    "resolution": 1222.992452562495,
    "scale": 4622324.434309
   },
   {
    "level": 8,
    "resolution": 611.4962262813797,
    "scale": 2311162.217155
   },
   {
    "level": 9,
    "resolution": 305.74811314055756,
    "scale": 1155581.108577
   },
   {
    "level": 10,
    "resolution": 152.87405657041106,
    "scale": 577790.554289
   },
   {
    "level": 11,
    "resolution": 76.43702828507324,
    "scale": 288895.277144
   },
   {
    "level": 12,
    "resolution": 38.21851414253662,
    "scale": 144447.638572
   },
   {
    "level": 13,
    "resolution": 19.10925707126831,
    "scale": 72223.819286
   },
   {
    "level": 14,
    "resolution": 9.554628535634155,
    "scale": 36111.909643
   },
   {
    "level": 15,
    "resolution": 4.77731426794937,
    "scale": 18055.954822
   },
   {
    "level": 16,
    "resolution": 2.388657133974685,
    "scale": 9027.977411
   },
   {
    "level": 17,
    "resolution": 1.1943285668550503,
    "scale": 4513.988705
   },
   {
    "level": 18,
    "resolution": 0.5971642835598172,
    "scale": 2256.994353
   },
   {
    "level": 19,
    "resolution": 0.29858214164761665,
    "scale": 1128.497176
   },
   {
    "level": 20,
    "resolution": 0.14929107082380833,
    "scale": 564.248588
   },
   {
    "level": 21,
    "resolution": 0.07464553541190416,
    "scale": 282.124294
   },
   {
    "level": 22,
    "resolution": 0.03732276770595208,
    "scale": 141.062147
   },
   {
    "level": 23,
    "resolution": 0.01866138385297604,
    "scale": 70.5310735
   }
  ]
 },
 "storageInfo": {
  "storageFormat": "esriMapCacheStorageModeCompactV2",
  "packetSize": 128
 },
 "initialExtent": {
  "xmin": -1.5488686379591277E7,
  "ymin": 1945802.8915445125,
  "xmax": -3932719.1975298543,
  "ymax": 7618585.100665701,
  "spatialReference": {
   "cs": "pcs",
   "wkid": 102100
  }
 },
 "fullExtent": {
  "xmin": -2.00375070738129E7,
  "ymin": -2.671293453885978E7,
  "xmax": 2.0037750667261E7,
  "ymax": 1.880706619151872E7,
  "spatialReference": {
   "cs": "pcs",
   "wkid": 102100
  }
 },
 "datesInUnknownTimezone": false,
 "minScale": 2.95828763795777E8,
 "maxScale": 4622324.434309,
 "units": "esriMeters",
 "supportedImageFormatTypes": "PNG32,PNG24,PNG,JPG,DIB,TIFF,EMF,PS,PDF,GIF,SVG,SVGZ,BMP",
 "documentInfo": {
  "Title": "Map",
  "Author": "",
  "Comments": "",
  "Subject": "",
  "Category": "",
  "Version": "3.3.0",
  "AntialiasingMode": "Fast",
  "TextAntialiasingMode": "Force",
  "Keywords": "a-16,ngda,elevation,3DEP,digital elevation model,DEM,shaded relief,hillshade,resolution,arc-second,United States,US,NGP-TNM,REST,WMS,WMTS"
 },
 "supportsQueryDomains": true,
 "capabilities": "Map,Query,Data",
 "supportedQueryFormats": "JSON, geoJSON, PBF",
 "exportTilesAllowed": true,
 "maxExportTilesCount": 100000,
 "referenceScale": 0.0,
 "supportsDatumTransformation": true,
 "archivingInfo": {
  "supportsHistoricMoment": false
 },
 "supportsClipping": true,
 "supportsSpatialFilter": true,
 "supportsTimeRelation": true,
 "supportsQueryDataElements": true,
 "mapUnits": {
  "uwkid": 9001
 },
 "maxRecordCount": 1000,
 "maxImageHeight": 4096,
 "maxImageWidth": 4096,
 "supportedExtensions": "WMSServer"
}
