View In:
ArcGIS JavaScript
ArcGIS Online Map Viewer
ArcGIS Earth
ArcGIS Pro
Service Description: This service is a cached overlay of a cartographic representation of the National Hydrography Dataset (NHD). The NHD is a comprehensive set of digital geospatial data that encodes information about naturally occurring and constructed bodies of surface water, paths through which water flows, related features such as stream gages and dams, and additional hydrologic information. It is available nationwide in a 1:24,000-scale seamless dataset, referred to as high resolution NHD. The NHD supports many applications, such as making maps, geocoding observations, flow modeling, data maintenance and stewardship. For additional information, go to http://nhd.usgs.gov. Additional datasets are used for small-scale hydrography representation as well, including medium resolution NHDPlus published by EPA; USGS Small-Scale hydrography; and bathymetry from ETOPO1 Global Relief, provided by NOAA National Centers for Environmental Information, U.S. Coastal Relief Model.
Map Name: USGSHydroCached
Legend
All Layers and Tables
Layers:
Description: This service is a cached overlay of a cartographic representation of the National Hydrography Dataset (NHD). The NHD is a comprehensive set of digital geospatial data that encodes information about naturally occurring and constructed bodies of surface water, paths through which water flows, related features such as stream gages and dams, and additional hydrologic information. It is available nationwide in a 1:24,000-scale seamless dataset, referred to as high resolution NHD. The NHD supports many applications, such as making maps, geocoding observations, flow modeling, data maintenance and stewardship. For additional information, go to http://nhd.usgs.gov. Additional datasets are used for small-scale hydrography representation as well, including medium resolution NHDPlus published by EPA; USGS Small-Scale hydrography; and bathymetry from ETOPO1 Global Relief, provided by NOAA National Centers for Environmental Information, U.S. Coastal Relief Model.
Copyright Text: USGS The National Map: National Hydrography Dataset. Data refreshed February, 2025.
Spatial Reference:
102100
(3857)
LatestVCSWkid(0)
Single Fused Map Cache: true
Tile Info:
- Height: 256.0
- Width: 256.0
- DPI: 96.0
-
Levels of Detail: 24
-
Level ID: 0
[ Start Tile, End Tile ]
- Resolution: 156543.03392800014
- Scale: 5.91657527591555E8
-
Level ID: 1
[ Start Tile, End Tile ]
- Resolution: 78271.51696399994
- Scale: 2.95828763795777E8
-
Level ID: 2
[ Start Tile, End Tile ]
- Resolution: 39135.75848200009
- Scale: 1.47914381897889E8
-
Level ID: 3
[ Start Tile, End Tile ]
- Resolution: 19567.87924099992
- Scale: 7.3957190948944E7
-
Level ID: 4
[ Start Tile, End Tile ]
- Resolution: 9783.93962049996
- Scale: 3.6978595474472E7
-
Level ID: 5
[ Start Tile, End Tile ]
- Resolution: 4891.96981024998
- Scale: 1.8489297737236E7
- Format: MIXED
- Compression Quality: 85.0
- Origin: X: -2.0037508342787E7
Y: 2.0037508342787E7
- Spatial Reference: 102100
(3857)
LatestVCSWkid(0)
Storage Info:
- Storage Format: esriMapCacheStorageModeCompactV2
- Packet Size: 128
Initial Extent:
XMin: -2.1054208906836987E7
YMin: -3017313.150540825
XMax: 1018358.8770109285
YMax: 1.2304336295162113E7
Spatial Reference: 102100
(0)
LatestVCSWkid(0)
Full Extent:
XMin: NaN
YMin: NaN
XMax: NaN
YMax: NaN
Spatial Reference: 102100
(0)
LatestVCSWkid(0)
Units: esriMeters
Supported Image Format Types: PNG32,PNG24,PNG,JPG,DIB,TIFF,EMF,PS,PDF,GIF,SVG,SVGZ,BMP
Document Info:
Title: USGS Hydro Cache Base Map
Author:
Comments: This service is a cached overlay of a cartographic representation of the National Hydrography Dataset (NHD). The NHD is a comprehensive set of digital geospatial data that encodes information about naturally occurring and constructed bodies of surface water, paths through which water flows, related features such as stream gages and dams, and additional hydrologic information. It is available nationwide in a 1:24,000-scale seamless dataset, referred to as high resolution NHD. The NHD supports many applications, such as making maps, geocoding observations, flow modeling, data maintenance and stewardship. For additional information, go to http://nhd.usgs.gov. Additional datasets are used for small-scale hydrography representation as well, including medium resolution NHDPlus published by EPA; USGS Small-Scale hydrography; and bathymetry from ETOPO1 Global Relief, provided by NOAA National Centers for Environmental Information, U.S. Coastal Relief Model.
Subject: Inland Waters
Category:
Keywords: NHD,WBD,USGS,hydrography,cache,wbd,nhd,hydro,river,stream,lakes
AntialiasingMode: Fast
TextAntialiasingMode: Force
Supports Dynamic Layers: false
MaxRecordCount: 1000
MaxImageHeight: 4096
MaxImageWidth: 4096
Supported Query Formats: JSON, geoJSON, PBF
Supports Query Data Elements: true
Min Scale: 5.91657527591555E8
Max Scale: 9027.977411
Supports Datum Transformation: true
Child Resources:
Info
Supported Operations:
Export Map
Identify
QueryLegends
QueryDomains
Find
EstimateExportTilesSize
ExportTiles
Return Updates